BEGIN:VCALENDAR
VERSION:2.0
PRODID:-//Aynho Parish Council//Meeting Calendar//EN
CALSCALE:GREGORIAN
METHOD:PUBLISH
BEGIN:VEVENT
UID:70448-20230101@aynho-pc.gov.uk
DTSTAMP:20260423T130604Z
DTSTART;VALUE=DATE:20230101
DTEND;VALUE=DATE:20230102
SUMMARY:Council Meetings &#8211\\; 2023
DESCRIPTION:General Meetings, Ordinary and Extraordinary Meeting\nView details: https://aynho-pc.gov.uk/meetings/council-meetings-2023/
URL:https://aynho-pc.gov.uk/meetings/council-meetings-2023/
END:VEVENT
END:VCALENDAR
