BEGIN:VCALENDAR
VERSION:2.0
PRODID:-//Aynho Parish Council//Meeting Calendar//EN
CALSCALE:GREGORIAN
METHOD:PUBLISH
BEGIN:VEVENT
UID:70688-20210101@aynho-pc.gov.uk
DTSTAMP:20260423T114001Z
DTSTART;VALUE=DATE:20210101
DTEND;VALUE=DATE:20210102
SUMMARY:Council Meetings &#8211\\; 2021
DESCRIPTION:General Meetings, Ordinary and Extraordinary Meeting\nView details: https://aynho-pc.gov.uk/meetings/council-meetings-2021/
URL:https://aynho-pc.gov.uk/meetings/council-meetings-2021/
END:VEVENT
END:VCALENDAR
