BEGIN:VCALENDAR
VERSION:2.0
PRODID:-//Aynho Parish Council//Meeting Calendar//EN
CALSCALE:GREGORIAN
METHOD:PUBLISH
BEGIN:VEVENT
UID:70730-20220523@aynho-pc.gov.uk
DTSTAMP:20260423T145921Z
DTSTART;VALUE=DATE:20220523
DTEND;VALUE=DATE:20220524
SUMMARY:Annual Village Meeting &#8211\\; 23rd May 2022
DESCRIPTION:Annual General Meetings (AGMs) Meeting\nView details: https://aynho-pc.gov.uk/meetings/annual-village-meeting-23rd-may-2022/
URL:https://aynho-pc.gov.uk/meetings/annual-village-meeting-23rd-may-2022/
END:VEVENT
END:VCALENDAR
