BEGIN:VCALENDAR
VERSION:2.0
PRODID:-//Aynho Parish Council//Meeting Calendar//EN
CALSCALE:GREGORIAN
METHOD:PUBLISH
BEGIN:VEVENT
UID:70732-20210528@aynho-pc.gov.uk
DTSTAMP:20260423T114310Z
DTSTART;VALUE=DATE:20210528
DTEND;VALUE=DATE:20210529
SUMMARY:Annual Meeting &#8211\\; 28th May 2021
DESCRIPTION:Annual General Meetings (AGMs) Meeting\nView details: https://aynho-pc.gov.uk/meetings/annual-village-meeting-28th-may-2021/
URL:https://aynho-pc.gov.uk/meetings/annual-village-meeting-28th-may-2021/
END:VEVENT
END:VCALENDAR
