BEGIN:VCALENDAR
VERSION:2.0
PRODID:-//Aynho Parish Council//Meeting Calendar//EN
CALSCALE:GREGORIAN
METHOD:PUBLISH
BEGIN:VEVENT
UID:71515-20190107@aynho-pc.gov.uk
DTSTAMP:20260423T100203Z
DTSTART;VALUE=DATE:20190107
DTEND;VALUE=DATE:20190108
SUMMARY:Archive Meetings 2019
DESCRIPTION:General Meetings, Ordinary and Extraordinary Meeting\nView details: https://aynho-pc.gov.uk/meetings/archive-meetings-2019/
URL:https://aynho-pc.gov.uk/meetings/archive-meetings-2019/
END:VEVENT
END:VCALENDAR
