BEGIN:VCALENDAR
VERSION:2.0
PRODID:-//Aynho Parish Council//Meeting Calendar//EN
CALSCALE:GREGORIAN
METHOD:PUBLISH
BEGIN:VEVENT
UID:71634-20231106@aynho-pc.gov.uk
DTSTAMP:20260423T144019Z
DTSTART;VALUE=DATE:20231106
DTEND;VALUE=DATE:20231107
SUMMARY:Council Meeting &#8211\\; 6th November 2023
DESCRIPTION:General Meetings, Ordinary and Extraordinary Meeting\nView details: https://aynho-pc.gov.uk/meetings/council-meeting-november-2023/
URL:https://aynho-pc.gov.uk/meetings/council-meeting-november-2023/
END:VEVENT
END:VCALENDAR
