BEGIN:VCALENDAR
VERSION:2.0
PRODID:-//Aynho Parish Council//Meeting Calendar//EN
CALSCALE:GREGORIAN
METHOD:PUBLISH
BEGIN:VEVENT
UID:71759-20170102@aynho-pc.gov.uk
DTSTAMP:20260423T095251Z
DTSTART;VALUE=DATE:20170102
DTEND;VALUE=DATE:20170103
SUMMARY:Archive Meetings 2017
DESCRIPTION:General Meetings, Ordinary and Extraordinary Meeting\nView details: https://aynho-pc.gov.uk/meetings/archive-meetings-2017/
URL:https://aynho-pc.gov.uk/meetings/archive-meetings-2017/
END:VEVENT
END:VCALENDAR
