BEGIN:VCALENDAR
VERSION:2.0
PRODID:-//Aynho Parish Council//Meeting Calendar//EN
CALSCALE:GREGORIAN
METHOD:PUBLISH
BEGIN:VEVENT
UID:71829-20241007@aynho-pc.gov.uk
DTSTAMP:20260423T143956Z
DTSTART;VALUE=DATE:20241007
DTEND;VALUE=DATE:20241008
SUMMARY:Council Meeting &#8211\\; 7th October 2024
DESCRIPTION:General Meetings, Ordinary and Extraordinary Meeting\nView details: https://aynho-pc.gov.uk/meetings/meeting-name-here-6/
URL:https://aynho-pc.gov.uk/meetings/meeting-name-here-6/
END:VEVENT
END:VCALENDAR
