BEGIN:VCALENDAR
VERSION:2.0
PRODID:-//Aynho Parish Council//Meeting Calendar//EN
CALSCALE:GREGORIAN
METHOD:PUBLISH
BEGIN:VEVENT
UID:71830-20241104@aynho-pc.gov.uk
DTSTAMP:20260423T184330Z
DTSTART;VALUE=DATE:20241104
DTEND;VALUE=DATE:20241105
SUMMARY:Council Meeting &#8211\\; 4th November 2024
DESCRIPTION:General Meetings, Ordinary and Extraordinary Meeting\nView details: https://aynho-pc.gov.uk/meetings/meeting-name-here-7/
URL:https://aynho-pc.gov.uk/meetings/meeting-name-here-7/
END:VEVENT
END:VCALENDAR
