BEGIN:VCALENDAR
VERSION:2.0
PRODID:-//Aynho Parish Council//Meeting Calendar//EN
CALSCALE:GREGORIAN
METHOD:PUBLISH
BEGIN:VEVENT
UID:71831-20241202@aynho-pc.gov.uk
DTSTAMP:20260423T143956Z
DTSTART;VALUE=DATE:20241202
DTEND;VALUE=DATE:20241203
SUMMARY:Council Meeting &#8211\\; 2nd December 2024
DESCRIPTION:General Meetings, Ordinary and Extraordinary Meeting\nView details: https://aynho-pc.gov.uk/meetings/meeting-name-here-8/
URL:https://aynho-pc.gov.uk/meetings/meeting-name-here-8/
END:VEVENT
END:VCALENDAR
