BEGIN:VCALENDAR
VERSION:2.0
PRODID:-//Aynho Parish Council//Meeting Calendar//EN
CALSCALE:GREGORIAN
METHOD:PUBLISH
BEGIN:VEVENT
UID:71833-20250106@aynho-pc.gov.uk
DTSTAMP:20260423T130556Z
DTSTART;VALUE=DATE:20250106
DTEND;VALUE=DATE:20250107
SUMMARY:CANCELLED &#8211\\; January Council Meeting
DESCRIPTION:General Meetings, Ordinary and Extraordinary Meeting\nView details: https://aynho-pc.gov.uk/meetings/council-meeting-6th-january-2025/
URL:https://aynho-pc.gov.uk/meetings/council-meeting-6th-january-2025/
END:VEVENT
END:VCALENDAR
