BEGIN:VCALENDAR
VERSION:2.0
PRODID:-//Aynho Parish Council//Meeting Calendar//EN
CALSCALE:GREGORIAN
METHOD:PUBLISH
BEGIN:VEVENT
UID:71834-20250203@aynho-pc.gov.uk
DTSTAMP:20260423T130619Z
DTSTART;VALUE=DATE:20250203
DTEND;VALUE=DATE:20250204
SUMMARY:Council Meeting &#8211\\; 3rd February 2025
DESCRIPTION:General Meetings, Ordinary and Extraordinary Meeting\nView details: https://aynho-pc.gov.uk/meetings/council-meeting-3rd-february-2025/
URL:https://aynho-pc.gov.uk/meetings/council-meeting-3rd-february-2025/
END:VEVENT
END:VCALENDAR
