BEGIN:VCALENDAR
VERSION:2.0
PRODID:-//Aynho Parish Council//Meeting Calendar//EN
CALSCALE:GREGORIAN
METHOD:PUBLISH
BEGIN:VEVENT
UID:71836-20250407@aynho-pc.gov.uk
DTSTAMP:20260423T130619Z
DTSTART;VALUE=DATE:20250407
DTEND;VALUE=DATE:20250408
SUMMARY:Council Meeting &#8211\\; 7th April 2025
DESCRIPTION:General Meetings, Ordinary and Extraordinary Meeting\nView details: https://aynho-pc.gov.uk/meetings/council-meeting-7th-april-2025/
URL:https://aynho-pc.gov.uk/meetings/council-meeting-7th-april-2025/
END:VEVENT
END:VCALENDAR
