BEGIN:VCALENDAR
VERSION:2.0
PRODID:-//Aynho Parish Council//Meeting Calendar//EN
CALSCALE:GREGORIAN
METHOD:PUBLISH
BEGIN:VEVENT
UID:71840-20240520@aynho-pc.gov.uk
DTSTAMP:20260423T132601Z
DTSTART;VALUE=DATE:20240520
DTEND;VALUE=DATE:20240521
SUMMARY:Annual Parish Meeting &#8211\\; 20th May 2024
DESCRIPTION:Annual General Meetings (AGMs) Meeting\nView details: https://aynho-pc.gov.uk/meetings/annual-parish-meeting-20th-may-2024/
URL:https://aynho-pc.gov.uk/meetings/annual-parish-meeting-20th-may-2024/
END:VEVENT
END:VCALENDAR
