BEGIN:VCALENDAR
VERSION:2.0
PRODID:-//Aynho Parish Council//Meeting Calendar//EN
CALSCALE:GREGORIAN
METHOD:PUBLISH
BEGIN:VEVENT
UID:72872-20241125@aynho-pc.gov.uk
DTSTAMP:20260423T144019Z
DTSTART;VALUE=DATE:20241125
DTEND;VALUE=DATE:20241126
SUMMARY:Extraordinary Council Meeting &#8211\\; 25th November 2024
DESCRIPTION:General Meetings, Ordinary and Extraordinary Meeting\nView details: https://aynho-pc.gov.uk/meetings/extraordinary-council-meeting-25th-november-2024/
URL:https://aynho-pc.gov.uk/meetings/extraordinary-council-meeting-25th-november-2024/
END:VEVENT
END:VCALENDAR
