BEGIN:VCALENDAR
VERSION:2.0
PRODID:-//Aynho Parish Council//Meeting Calendar//EN
CALSCALE:GREGORIAN
METHOD:PUBLISH
BEGIN:VEVENT
UID:72983-20250428@aynho-pc.gov.uk
DTSTAMP:20260423T114433Z
DTSTART;VALUE=DATE:20250428
DTEND;VALUE=DATE:20250429
SUMMARY:Annual Parish Meeting &#8211\\; 28th April 2025
DESCRIPTION:Annual General Meetings (AGMs) Meeting\nView details: https://aynho-pc.gov.uk/meetings/annual-parish-meeting/
URL:https://aynho-pc.gov.uk/meetings/annual-parish-meeting/
END:VEVENT
END:VCALENDAR
