BEGIN:VCALENDAR
VERSION:2.0
PRODID:-//Aynho Parish Council//Meeting Calendar//EN
CALSCALE:GREGORIAN
METHOD:PUBLISH
BEGIN:VEVENT
UID:73141-20250707@aynho-pc.gov.uk
DTSTAMP:20260423T114117Z
DTSTART;VALUE=DATE:20250707
DTEND;VALUE=DATE:20250708
SUMMARY:Council Meeting &#8211\\; 7th July 2025
DESCRIPTION:General Meetings, Ordinary and Extraordinary Meeting\nView details: https://aynho-pc.gov.uk/meetings/council-meeting-7th-july-2025/
URL:https://aynho-pc.gov.uk/meetings/council-meeting-7th-july-2025/
END:VEVENT
END:VCALENDAR
