BEGIN:VCALENDAR
VERSION:2.0
PRODID:-//Aynho Parish Council//Meeting Calendar//EN
CALSCALE:GREGORIAN
METHOD:PUBLISH
BEGIN:VEVENT
UID:73144-20251103@aynho-pc.gov.uk
DTSTAMP:20260423T101520Z
DTSTART;VALUE=DATE:20251103
DTEND;VALUE=DATE:20251104
SUMMARY:Council Meeting &#8211\\; 3rd November 2025
DESCRIPTION:General Meetings, Ordinary and Extraordinary Meeting\nView details: https://aynho-pc.gov.uk/meetings/council-meeting-3rd-november-2025/
URL:https://aynho-pc.gov.uk/meetings/council-meeting-3rd-november-2025/
END:VEVENT
END:VCALENDAR
