BEGIN:VCALENDAR
VERSION:2.0
PRODID:-//Aynho Parish Council//Meeting Calendar//EN
CALSCALE:GREGORIAN
METHOD:PUBLISH
BEGIN:VEVENT
UID:73147-20260302@aynho-pc.gov.uk
DTSTAMP:20260423T082400Z
DTSTART;VALUE=DATE:20260302
DTEND;VALUE=DATE:20260303
SUMMARY:Council Meeting &#8211\\; 2nd March 2026
DESCRIPTION:General Meetings, Ordinary and Extraordinary Meeting\nView details: https://aynho-pc.gov.uk/meetings/council-meeting-2nd-march-2026/
URL:https://aynho-pc.gov.uk/meetings/council-meeting-2nd-march-2026/
END:VEVENT
END:VCALENDAR
